BEGIN:VCALENDAR
VERSION:2.0
PRODID:gruene-neusob.de
METHOD:PUBLISH
BEGIN:VTIMEZONE
TZID:Europe/Berlin
X-LIC-LOCATION:Europe/Berlin
BEGIN:DAYLIGHT
TZOFFSETFROM:+0100
TZOFFSETTO:+0200
TZNAME:CEST
DTSTART:19700329T020000
RRULE:FREQ=YEARLY;INTERVAL=1;BYDAY=-1SU;BYMONTH=3
END:DAYLIGHT
BEGIN:STANDARD
TZOFFSETFROM:+0200
TZOFFSETTO:+0100
TZNAME:CET
DTSTART:19701025T030000
RRULE:FREQ=YEARLY;INTERVAL=1;BYDAY=-1SU;BYMONTH=10
END:STANDARD
END:VTIMEZONE
BEGIN:VEVENT
UID:b45c6cc7a5d0092d448e69d93607117e@gruene-neusob.de
URL;VALUE=URI:https://gruene-neusob.de/termine/ov-schrobenhausener-land-o
 ffener-gruener-treff/
LOCATION:Cafe Eckers, Lenbachtstraße, Schrobenhausen
SUMMARY:OV Schrobenhausener Land: Offener Grüner Treff
DESCRIPTION;ALTREP="data:text/html,%3Cp%3EMonatlicher%20offener%20Gr%C3%B
 Cner%20Treff%20mit%20Themen%20aus%20der%20Region%3C%2Fp%3E":Monatlicher o
 ffener Grüner Treff mit Themen aus der Region
CLASS:PUBLIC
DTSTART;TZID=Europe/Berlin:20260513T190000
DTEND;TZID=Europe/Berlin:20260513T210000
DTSTAMP:20260422T095818
END:VEVENT
END:VCALENDAR