BEGIN:VCALENDAR
VERSION:2.0
PRODID:gruene-neusob.de
METHOD:PUBLISH
BEGIN:VTIMEZONE
TZID:Europe/Berlin
X-LIC-LOCATION:Europe/Berlin
BEGIN:DAYLIGHT
TZOFFSETFROM:+0100
TZOFFSETTO:+0200
TZNAME:CEST
DTSTART:19700329T020000
RRULE:FREQ=YEARLY;INTERVAL=1;BYDAY=-1SU;BYMONTH=3
END:DAYLIGHT
BEGIN:STANDARD
TZOFFSETFROM:+0200
TZOFFSETTO:+0100
TZNAME:CET
DTSTART:19701025T030000
RRULE:FREQ=YEARLY;INTERVAL=1;BYDAY=-1SU;BYMONTH=10
END:STANDARD
END:VTIMEZONE
BEGIN:VEVENT
UID:0f9ca5b6842fe9e87631f81d039f56ca@gruene-neusob.de
URL;VALUE=URI:https://gruene-neusob.de/termine/gruendungsversammlung-grue
 nen-jugend/
LOCATION:Bella Tandoori, Rinderhofer Breite 2, 86529 Schrobenhausen
SUMMARY:Gründungsversammlung GRÜNE JUGEND
DESCRIPTION;ALTREP="data:text/html,%0A%3Cp%3ELiebe%20Freund%2Ainnen%2C%3C
 %2Fp%3E%0A%0A%0A%0A%3Cp%3Eder%20Landkreis%20Neuburg-Schrobenhausen%20m%C3
 %B6chte%20einen%20eigenen%26nbsp%3B%3Cstrong%3EGR%C3%9CNE%20JUGEND%20Krei
 sverband%3C%2Fstrong%3E%26nbsp%3Bgr%C3%BCnden.%20Nach%20%C3%BCber%20einem
 %20Jahr%20Arbeit%20sind%20wir%20endlich%20dazu%20in%20der%20Lage%20uns%20
 zu%20formieren%20und%20gemeinsam%20den%20Landkreis%20etwas%20sch%C3%B6ner
 %20f%C3%BCr%20die%20Jugend%20zu%20gestalten.%3C%2Fp%3E%0A%0A%0A%0A%3Cp%3E
 Hiermit%20laden%20wir%20euch%20zu%20unserer%26nbsp%3B%3Cstrong%3EGr%C3%BC
 ndungsversammlung%3C%2Fstrong%3E%26nbsp%3Bam%26nbsp%3B%3Cstrong%3E29.10.2
 023%3C%2Fstrong%3E%26nbsp%3Bum%26nbsp%3B%3Cstrong%3E16%3A30%3C%2Fstrong%3
 E%26nbsp%3Bbeim%26nbsp%3B%3Cstrong%3EBella%20Tandoori%3C%2Fstrong%3E%26nb
 sp%3Bin%20M%C3%BChlried%20%28%3Cstrong%3ESchrobenhausen%3C%2Fstrong%3E%29
 %20ein.%3C%2Fp%3E%0A%0A%0A%0A%3Cp%3EWir%20w%C3%BCrden%20uns%20sehr%20freu
 en%2C%20wenn%20ihr%20uns%20bei%20diesem%20historischen%20Ereignis%20beiwo
 hnen%20k%C3%B6nntet.%3C%2Fp%3E%0A":Liebe Freund*innen\,\n\nder Landkreis 
 Neuburg-Schrobenhausen möchte einen eigenen GRÜNE JUGEND Kreisverband
  gründen. Nach über einem Jahr Arbeit sind wir endlich dazu in der Lag
 e uns zu formieren und gemeinsam den Landkreis etwas schöner für die Ju
 gend zu gestalten.\n\nHiermit laden wir euch zu unserer Gründungsversam
 mlung am 29.10.2023 um 16:30 beim Bella Tandoori in Mühlried (Sch
 robenhausen) ein.\n\nWir würden uns sehr freuen\, wenn ihr uns bei diese
 m historischen Ereignis beiwohnen könntet.
CLASS:PUBLIC
DTSTART;TZID=Europe/Berlin:20231029T163000
DTEND;TZID=Europe/Berlin:20231029T183000
DTSTAMP:20260421T095405
END:VEVENT
END:VCALENDAR